BEGIN:VCALENDAR
VERSION:2.0
PRODID:-//FoodSQA - ECPv6.13.2.1//NONSGML v1.0//EN
CALSCALE:GREGORIAN
METHOD:PUBLISH
X-ORIGINAL-URL:https://foodsqa.com
X-WR-CALDESC:Events for FoodSQA
REFRESH-INTERVAL;VALUE=DURATION:PT1H
X-Robots-Tag:noindex
X-PUBLISHED-TTL:PT1H
BEGIN:VTIMEZONE
TZID:Asia/Krasnoyarsk
BEGIN:STANDARD
TZOFFSETFROM:+0700
TZOFFSETTO:+0700
TZNAME:+07
DTSTART:20260101T000000
END:STANDARD
END:VTIMEZONE
BEGIN:VTIMEZONE
TZID:UTC
BEGIN:STANDARD
TZOFFSETFROM:+0000
TZOFFSETTO:+0000
TZNAME:UTC
DTSTART:20260101T000000
END:STANDARD
END:VTIMEZONE
BEGIN:VEVENT
DTSTART;TZID=Asia/Krasnoyarsk:20260603T090000
DTEND;TZID=Asia/Krasnoyarsk:20260603T113000
DTSTAMP:20260424T044350
CREATED:20250211T211802Z
LAST-MODIFIED:20260327T160838Z
UID:4290-1780477200-1780486200@foodsqa.com
SUMMARY:New Trends In Food Safety
DESCRIPTION:The New Trends in Food Safety event brings together industry leaders\, researchers\, and regulatory experts to explore the rapidly evolving landscape of food safety management. As global food systems become more complex\, the event focuses on emerging challenges such as rising allergen-related recalls\, microbial risks\, supply chain vulnerabilities\, and the increasing impact of climate and trade on food safety. Participants gain valuable insights into how modern food systems are adapting to ensure safer\, more resilient\, and transparent production and distribution networks. \nThe event also highlights the role of innovation and regulatory evolution in shaping the future of food safety. Discussions cover advancements in food safety monitoring\, digital traceability systems\, risk-based inspection approaches\, and the influence of regulatory bodies in North America and beyond. Special attention is given to emerging issues such as avian influenza risks\, delayed traceability regulations\, and shifting policy frameworks. Overall\, the event provides a forward-looking perspective on how the food industry can strengthen compliance\, improve risk management\, and protect public health in an increasingly dynamic environment.
URL:https://foodsqa.com/event/new-trends-in-food-safety/
LOCATION:Cremco Hall\, 3403 American Dr\, Mississauga\, Mississauga\, Ontario\, L4V 1T4\, Canada
CATEGORIES:Food Processing Sector,Food Safety Regulations
ATTACH;FMTTYPE=image/jpeg:https://foodsqa.com/wp-content/uploads/2025/02/new-trends-in-food-safety.jpg
END:VEVENT
BEGIN:VEVENT
DTSTART;TZID=Asia/Krasnoyarsk:20260607T080000
DTEND;TZID=Asia/Krasnoyarsk:20260607T080000
DTSTAMP:20260424T044351
CREATED:20250307T001111Z
LAST-MODIFIED:20260327T160619Z
UID:4358-1780819200-1780819200@foodsqa.com
SUMMARY:Digital Transformation: Driving Efficiency and Sustainable Growth in the Food Industry
DESCRIPTION:In today’s food industry\, digital transformation is key to building high-performing organizations. This talk explores how embracing modern technology and data-driven strategies can enhance productivity\, foster collaboration\, and improve adaptability in a fast-changing market. With new digital tools\, food businesses can streamline operations and respond quickly to shifting consumer demands and supply chain challenges.By leveraging innovations like data analytics\, cloud platforms\, and automation\, organizations can make informed decisions and cultivate a culture of continuous improvement. Attendees will discover how a digital-first approach not only optimizes day-to-day processes but also sparks innovation across teams. The talk will highlight real-world examples of technology empowering food industry professionals to boost efficiency\, ensure quality\, and drive sustainable growth.
URL:https://foodsqa.com/event/building-top-performing-organizations-driving-digital/
CATEGORIES:Food Contamination,Food Industry Specific Training,Food Processing Sector,Food Quality Assurance,Food Safety Regulations,Technology
ATTACH;FMTTYPE=image/jpeg:https://foodsqa.com/wp-content/uploads/2025/03/foodaqs-com-events-top-buidling-organizations-1.jpg
END:VEVENT
BEGIN:VEVENT
DTSTART;TZID=UTC:20260612T170000
DTEND;TZID=UTC:20260612T200000
DTSTAMP:20260424T044351
CREATED:20250307T011517Z
LAST-MODIFIED:20260327T160203Z
UID:4362-1781283600-1781294400@foodsqa.com
SUMMARY:A Review of Digital Environmental\, Health\, & Safety (EHS)
DESCRIPTION:Digital EHS revolutionizes the food industry by harnessing automation\, IoT\, and data analytics to streamline compliance\, enhance risk management\, and boost workplace safety. This digital approach not only simplifies regulatory reporting and proactive hazard detection but also supports environmental sustainability efforts\, ensuring that food production remains efficient\, safe\, and accountable.
URL:https://foodsqa.com/event/a-review-of-digital-environmental-health-and-safety-ehs/
CATEGORIES:Food Contamination,Food Industry Specific Training,Food Processing Sector,Food Quality Assurance,Food Safety Regulations,Technology
ATTACH;FMTTYPE=image/jpeg:https://foodsqa.com/wp-content/uploads/2025/03/foodaqs-com-events-top-digital-ehs-1.jpg
END:VEVENT
BEGIN:VEVENT
DTSTART;TZID=UTC:20260716T140000
DTEND;TZID=UTC:20260716T183000
DTSTAMP:20260424T044351
CREATED:20250513T164332Z
LAST-MODIFIED:20260327T155959Z
UID:4535-1784210400-1784226600@foodsqa.com
SUMMARY:Advanced Food Testing: Ensuring Food Quality\, Safety\, and Authenticity
DESCRIPTION:In the rapidly evolving landscape of food testing\, advanced analytical techniques play a crucial role in safeguarding food quality\, ensuring safety\, and verifying authenticity. This lecture will explore the integration of Liquid Chromatography-Mass Spectrometry (LC-MS)\, Gas Chromatography-Mass Spectrometry (GC-MS)\, and Atomic Absorption Spectroscopy (AAS) as pivotal technologies in comprehensive food analysis. \nThe session will dig into the principles and applications of each technique\, highlighting their effectiveness in detecting contaminants\, identifying adulterants\, and quantifying essential nutrients and heavy metals in various food matrices. Key case studies will illustrate how these analytical methods enable the detection of pesticide residues\, mycotoxins\, and trace metals\, ensuring regulatory compliance and consumer safety. Additionally\, the lecture will address the challenges of matrix complexity\, sensitivity\, and quantification limits\, offering insights into optimizing testing protocols to meet industry standards. \nAttendees will gain a comprehensive understanding of how LC-MS\, GC-MS\, and AAS contribute to a robust food testing framework\,  authenticity\, and public health protection in the global food supply chain. \n 
URL:https://foodsqa.com/event/advanced-food-testing-ensuring-food-quality-safety-and-authenticity-through-lc-ms-gc-ms-and-atomic-absorptio/
CATEGORIES:Food Contamination,Food Industry Specific Training,Food Processing Sector,Food Quality Assurance,Food Safety Regulations,Technology
ATTACH;FMTTYPE=image/jpeg:https://foodsqa.com/wp-content/uploads/2025/05/foodsaq-com-events-top-advanced-food-testing.jpg
END:VEVENT
BEGIN:VEVENT
DTSTART;TZID=Asia/Krasnoyarsk:20260814T130000
DTEND;TZID=Asia/Krasnoyarsk:20260814T170000
DTSTAMP:20260424T044351
CREATED:20250513T174117Z
LAST-MODIFIED:20260327T155805Z
UID:4552-1786712400-1786726800@foodsqa.com
SUMMARY:Monitoring Trends in Food Safety
DESCRIPTION:I have been Monitoring Trends in Food Safety for almost 10 years. What did I learn? The main reason for recalls in both the US and Canada tends to be allergens\, followed by microorganisms. There are relatively small fluctuations in the number of recalls over the years\, but occasionally there is a bad year. It is essential to understand the reasons for the years of excessive recalls. For example\, why was 2024 a bad year in the US?  Other topics include Bird flu. Will it become an epidemic like COVID? The regulatory structure of the FDA was in turmoil over the past few years after the security crisis due to the infant formula. A new structure and a new commissioner was appointed\, but he resigned after a few months. Where are we now? The USDA/FSIS proposed a plan to reduce Salmonella in poultry. After 3 years of work on the plan\, it was withdrawn. Will it come back? Then\, there is the traceability 204 rule. Why does it keep being delayed?
URL:https://foodsqa.com/event/monitoring-trends-in-food-safety/
ATTACH;FMTTYPE=image/jpeg:https://foodsqa.com/wp-content/uploads/2025/05/foodsaq-com-events-top-monitoring-trends-in-food-safety.jpg
END:VEVENT
BEGIN:VEVENT
DTSTART;TZID=Asia/Krasnoyarsk:20260820T140000
DTEND;TZID=Asia/Krasnoyarsk:20260820T183000
DTSTAMP:20260424T044351
CREATED:20250513T173725Z
LAST-MODIFIED:20260327T155546Z
UID:4547-1787234400-1787250600@foodsqa.com
SUMMARY:Food Safety Guidelines for Indoor Farming: Risk Assessment and Risk Management
DESCRIPTION:Cultivating plants within a contained environment\, thereby protected from the elements\, has a long history. Previously\, indoor farming meant using greenhouses to increase productivity and extending growing seasons. The advent of enabling technologies such as LED lighting\, energy management\, robotics\, and environmental control systems has enabled indoor farming to become economically viable for staple crop production. This has led to an increase in indoor farming facilities across the globe to enhance food production through local supply that is more protected against extreme weather events compared to conventional farming\, thereby enhancing food security. There is also the perception that indoor farmed crops are protected from contamination from pathogens (e.g. Salmonella\, toxigenic Escherichia coli) and chemical hazards\, such as excessive pesticide residues\, by being within a contained environment. However\, several outbreaks and recalls have been associated with indoor farmed crops. Consequently\, there is a need for a greater understanding of the sources of contamination and what risk management options are available to growers. To address this need\, the Food and Agriculture Organization of the United Nations (FAO) has been developing a publication on the food safety insights for various indoor farming systems. The first part of the presentation will provide an overview of the FAO mission and how the publication has been prepared. The second part of the presentation will describe the different elements and systems encompassed under the indoor farming umbrella. The sources of contamination via the different inputs within farming operations will be described along with the fate of pathogens (STEC\, Salmonella\, and Listeria monocytogenes) when introduced on seed\, growth substrate\, and irrigation water. Interventions will be outlined to reduce contamination while maintaining plant growth performance and quality. \n 
URL:https://foodsqa.com/event/food-safety-guidelines-for-indoor-farming-risk-assessment-and-risk-management/
ATTACH;FMTTYPE=image/jpeg:https://foodsqa.com/wp-content/uploads/2025/05/foodsaq-com-events-top-food-safety-guidelines-for-indoor-farming.jpg
END:VEVENT
BEGIN:VEVENT
DTSTART;TZID=Asia/Krasnoyarsk:20260917T080000
DTEND;TZID=Asia/Krasnoyarsk:20260917T113000
DTSTAMP:20260424T044351
CREATED:20250307T000933Z
LAST-MODIFIED:20260327T155341Z
UID:4356-1789632000-1789644600@foodsqa.com
SUMMARY:Digital Transformation in Food Production
DESCRIPTION:Digital transformation in food production is revolutionizing the industry by integrating advanced technologies such as automation\, IoT\, and data analytics to enhance efficiency\, traceability\, and compliance with regulatory standards. This evolution streamlines processes\, reduces waste\, and enables proactive quality management by leveraging real-time insights and predictive analytics to address potential issues before they escalate. Ultimately\, digital transformation not only optimizes production but also reinforces food safety and quality\, building greater consumer trust and positioning industry leaders to meet the evolving challenges of today’s competitive marketplace.
URL:https://foodsqa.com/event/digital-transformation-in-food-production/
ATTACH;FMTTYPE=image/jpeg:https://foodsqa.com/wp-content/uploads/2025/03/foodaqs-com-events-top-digital-transformation-1.jpg
END:VEVENT
BEGIN:VEVENT
DTSTART;TZID=Asia/Krasnoyarsk:20260925T120000
DTEND;TZID=Asia/Krasnoyarsk:20260925T173000
DTSTAMP:20260424T044351
CREATED:20250211T212401Z
LAST-MODIFIED:20260327T155138Z
UID:4289-1790337600-1790357400@foodsqa.com
SUMMARY:First Annual Food Safety And Quality Conference
DESCRIPTION:The First Annual Food Safety and Quality Conference brings together industry professionals\, researchers\, and decision-makers to explore the evolving landscape of food safety\, regulatory compliance\, and quality assurance in today’s global food system. This event is dedicated to addressing the most pressing challenges facing the food industry\, including food safety laws\, risk management\, traceability\, and the impact of emerging technologies on maintaining high standards of quality and hygiene across the supply chain. \nThroughout the conference\, participants engage in insightful discussions on digital transformation in the food sector\, data-driven decision-making\, and modern strategies for improving operational efficiency and regulatory compliance. Key topics also include the role of automation\, cloud-based systems\, and analytics in strengthening food safety practices and ensuring consistent product quality. By bringing together experts and innovators\, the conference serves as a platform for knowledge sharing\, collaboration\, and the advancement of safer\, more resilient food systems.
URL:https://foodsqa.com/event/first-annual-food-safety-and-quality-conference/
CATEGORIES:Food Processing Sector,Food Quality Assurance
ATTACH;FMTTYPE=image/jpeg:https://foodsqa.com/wp-content/uploads/2025/02/food-saftey-conference-7.jpg
END:VEVENT
BEGIN:VEVENT
DTSTART;TZID=Asia/Krasnoyarsk:20261002T090000
DTEND;TZID=Asia/Krasnoyarsk:20261002T113000
DTSTAMP:20260424T044351
CREATED:20250211T200013Z
LAST-MODIFIED:20260327T154802Z
UID:4281-1790931600-1790940600@foodsqa.com
SUMMARY:Food Safety Laws And Responsibilities
DESCRIPTION:In today’s food industry\, digital transformation is key to building high-performing organizations. This talk explores how embracing modern technology and data-driven strategies can enhance productivity\, foster collaboration\, and improve adaptability in a fast-changing market. With new digital tools\, food businesses can streamline operations and respond quickly to shifting consumer demands and supply chain challenges.By leveraging innovations like data analytics\, cloud platforms\, and automation\, organizations can make informed decisions and cultivate a culture of continuous improvement. Attendees will discover how a digital-first approach not only optimizes day-to-day processes but also sparks innovation across teams. The talk will highlight real-world examples of technology empowering food industry professionals to boost efficiency\, ensure quality\, and drive sustainable growth.
URL:https://foodsqa.com/event/food-safety-laws-and-responsibilities/
LOCATION:Cremco Hall\, 3403 American Dr\, Mississauga\, Mississauga\, Ontario\, L4V 1T4\, Canada
CATEGORIES:Food Contamination,Food Quality Assurance
ATTACH;FMTTYPE=image/jpeg:https://foodsqa.com/wp-content/uploads/2025/02/food-safety-laws-5.jpg
END:VEVENT
END:VCALENDAR