BEGIN:VCALENDAR
VERSION:2.0
PRODID:-//FoodSQA - ECPv6.13.2.1//NONSGML v1.0//EN
CALSCALE:GREGORIAN
METHOD:PUBLISH
X-ORIGINAL-URL:https://foodsqa.com
X-WR-CALDESC:Events for FoodSQA
REFRESH-INTERVAL;VALUE=DURATION:PT1H
X-Robots-Tag:noindex
X-PUBLISHED-TTL:PT1H
BEGIN:VTIMEZONE
TZID:Asia/Krasnoyarsk
BEGIN:STANDARD
TZOFFSETFROM:+0700
TZOFFSETTO:+0700
TZNAME:+07
DTSTART:20250101T000000
END:STANDARD
END:VTIMEZONE
BEGIN:VEVENT
DTSTART;TZID=Asia/Krasnoyarsk:20250321T100000
DTEND;TZID=Asia/Krasnoyarsk:20250321T200000
DTSTAMP:20260424T214447
CREATED:20250307T000736Z
LAST-MODIFIED:20250307T011838Z
UID:4347-1742551200-1742587200@foodsqa.com
SUMMARY:Recalls root cause and advanced testing methods for industry’s commitment to food safety
DESCRIPTION:Canada upholds stringent food safety standards\, yet recent recalls have raised concerns\, challenging consumer confidence in the industry’s commitment to safety. To uphold trust and ensure compliance\, it’s essential to address the root causes of recalls and implement proactive solutions. \nThis session will cover: \n🔹 Root Causes of Recalls – Identifying key factors and systemic challenges \n🔹 Regulatory Compliance – Navigating evolving food safety standards \n🔹 Preventive Measures – Strengthening risk mitigation strategies \n🔹 Advanced Testing Methods – Leveraging cutting-edge technology for safer products \n🔹 Comprehensive Employee Training – Building a culture of food safety excellence \n🔹 Climate Change & Food Safety – Adapting to emerging environmental challenges \nGain practical insights to enhance your food safety programs\, safeguard public health\, and reinforce industry integrity. Join us in shaping a safer food future! \nI will discuss; how Canadian Food Inspection Agency decide to recall a food product? When there is reason to believe that food is unsafe or does not follow federal regulations\, the Canadian Food Inspection Agency (CFIA) initiates a 5-step process to investigate and determine if a food recall is necessary \n\nTrigger\nFood safety investigation\nRisk assessment\nRecall process\nFollow-up
URL:https://foodsqa.com/event/recalls-root-cause-and-advanced-testing-methods-for-industrys-commitment-to-food-safety/
LOCATION:Cremco Hall\, 3403 American Dr\, Mississauga\, Mississauga\, Ontario\, L4V 1T4\, Canada
CATEGORIES:Food Processing Sector,Food Quality Assurance
ATTACH;FMTTYPE=image/jpeg:https://foodsqa.com/wp-content/uploads/2025/02/food-saftey-conference-7.jpg
END:VEVENT
END:VCALENDAR